BEGIN:VCALENDAR
VERSION:2.0
PRODID:-//My Spencer County - ECPv6.15.20//NONSGML v1.0//EN
CALSCALE:GREGORIAN
METHOD:PUBLISH
X-WR-CALNAME:My Spencer County
X-ORIGINAL-URL:https://www.myspencercounty.com
X-WR-CALDESC:Events for My Spencer County
REFRESH-INTERVAL;VALUE=DURATION:PT1H
X-Robots-Tag:noindex
X-PUBLISHED-TTL:PT1H
BEGIN:VTIMEZONE
TZID:America/Indiana/Tell_City
BEGIN:DAYLIGHT
TZOFFSETFROM:-0600
TZOFFSETTO:-0500
TZNAME:CDT
DTSTART:20240310T080000
END:DAYLIGHT
BEGIN:STANDARD
TZOFFSETFROM:-0500
TZOFFSETTO:-0600
TZNAME:CST
DTSTART:20241103T070000
END:STANDARD
BEGIN:DAYLIGHT
TZOFFSETFROM:-0600
TZOFFSETTO:-0500
TZNAME:CDT
DTSTART:20250309T080000
END:DAYLIGHT
BEGIN:STANDARD
TZOFFSETFROM:-0500
TZOFFSETTO:-0600
TZNAME:CST
DTSTART:20251102T070000
END:STANDARD
BEGIN:DAYLIGHT
TZOFFSETFROM:-0600
TZOFFSETTO:-0500
TZNAME:CDT
DTSTART:20260308T080000
END:DAYLIGHT
BEGIN:STANDARD
TZOFFSETFROM:-0500
TZOFFSETTO:-0600
TZNAME:CST
DTSTART:20261101T070000
END:STANDARD
END:VTIMEZONE
BEGIN:VEVENT
DTSTART;TZID=America/Indiana/Tell_City:20251121T170000
DTEND;TZID=America/Indiana/Tell_City:20251121T210000
DTSTAMP:20260421T164609
CREATED:20251105T154035Z
LAST-MODIFIED:20251105T171428Z
UID:10000093-1763744400-1763758800@www.myspencercounty.com
SUMMARY:Santa Claus Land of Lights
DESCRIPTION:Experience the shining story of Rudolph told in brilliant LED lights! The Santa Claus Land of Lights is a 1.2-mile drive-through family Christmas light adventure located inside Sun Outdoors Lake Rudolph. A coupon to the Santa Claus Christmas Store is included with each vehicle admission. This event is part of the three-weekend Santa Claus Christmas Celebration\, a town-wide celebration full of festive events for the entire family. \nAdmission is $20 per passenger vehicle. \nEvent Schedule:\nNovember 21 – December 7 – Fridays\, Saturdays\, and Sundays\nDecember 12 – December 23 – Open Nightly
URL:https://www.myspencercounty.com/calendar-of-event/santa-claus-land-of-lights/2025-11-21/
LOCATION:Sun Outdoors Lake Rudolph\, 78 North Holiday Blvd\, Santa Claus\, 47579\, United States
CATEGORIES:Christmas,Kid Friendly,Santa Claus
ATTACH;FMTTYPE=image/jpeg:https://www.myspencercounty.com/wp-content/uploads/2025/11/santa-claus-land-of-lights.jpg
END:VEVENT
END:VCALENDAR