BEGIN:VCALENDAR
VERSION:2.0
PRODID:-//My Spencer County - ECPv6.15.20//NONSGML v1.0//EN
CALSCALE:GREGORIAN
METHOD:PUBLISH
X-ORIGINAL-URL:https://www.myspencercounty.com
X-WR-CALDESC:Events for My Spencer County
REFRESH-INTERVAL;VALUE=DURATION:PT1H
X-Robots-Tag:noindex
X-PUBLISHED-TTL:PT1H
BEGIN:VTIMEZONE
TZID:America/Indiana/Tell_City
BEGIN:DAYLIGHT
TZOFFSETFROM:-0600
TZOFFSETTO:-0500
TZNAME:CDT
DTSTART:20240310T080000
END:DAYLIGHT
BEGIN:STANDARD
TZOFFSETFROM:-0500
TZOFFSETTO:-0600
TZNAME:CST
DTSTART:20241103T070000
END:STANDARD
BEGIN:DAYLIGHT
TZOFFSETFROM:-0600
TZOFFSETTO:-0500
TZNAME:CDT
DTSTART:20250309T080000
END:DAYLIGHT
BEGIN:STANDARD
TZOFFSETFROM:-0500
TZOFFSETTO:-0600
TZNAME:CST
DTSTART:20251102T070000
END:STANDARD
BEGIN:DAYLIGHT
TZOFFSETFROM:-0600
TZOFFSETTO:-0500
TZNAME:CDT
DTSTART:20260308T080000
END:DAYLIGHT
BEGIN:STANDARD
TZOFFSETFROM:-0500
TZOFFSETTO:-0600
TZNAME:CST
DTSTART:20261101T070000
END:STANDARD
END:VTIMEZONE
BEGIN:VEVENT
DTSTART;TZID=America/Indiana/Tell_City:20250927T120000
DTEND;TZID=America/Indiana/Tell_City:20250927T120000
DTSTAMP:20260421T231256
CREATED:20250703T174834Z
LAST-MODIFIED:20250922T135207Z
UID:10000076-1758974400-1758974400@www.myspencercounty.com
SUMMARY:St. Meinrad Rocks Festival
DESCRIPTION:Friday\, September 26\, 2025 – Saturday\, September 27\, 2025 \nMark your calendar for the 14th annual St. Meinrad Rocks Festival at the St. Meinrad Park. The two-day outdoor event will feature a full lineup of performers on two stages\, vendors\, children’s activities\, raffle\, beer garden\, and food trucks and booths. \nAdmission is free. \nBring lawn chairs; no coolers or glass. \nProceeds benefit the St. Meinrad Town Museum Fund. \nPerformance Schedule\nAll times listed are Central and subject to change \nFriday\, September 26\n6:00pm – Star-Spangled Banner (TBD)\n6:05 – Silly Rules\n7:30 – Bobby Clark\n8:30 – Cage Willis \nSaturday\, September 27\n12:30pm – Star-Spangled Banner by James Wagner\, Jr.\nBeer Garden & Food Trucks/Booths Open\n1:00 – 6:00pm Vendor Fair (Park Area)\n1:00 – Roulette\n2:00 – Silly Safari Live Animal Show (Park Area)\n2:45 – Lindsey James Williams\n3:30 – Indian Creek\n4:45 – Ronnie Troesch\n5:30 – Dispel\n6:45 – Alec Olinger\n7:30 – Rhoads Scholars – A Tribute to Randy\n8:30 – Angel Rhodes\n9:15 – Kofi Baker’s Psychedelic Trip \nContact: (812) 309-8523
URL:https://www.myspencercounty.com/calendar-of-event/st-meinrad-rocks-festival-2/
LOCATION:St. Meinrad Park\, 19568 North 2nd Street\, St. Meinrad\, IN\, 47577\, United States
CATEGORIES:Music,St. Meinrad
ATTACH;FMTTYPE=image/jpeg:https://www.myspencercounty.com/wp-content/uploads/2025/07/St.-Meinrad-ROCKS-Festival.jpg
END:VEVENT
BEGIN:VEVENT
DTSTART;TZID=America/Indiana/Tell_City:20250926T180000
DTEND;TZID=America/Indiana/Tell_City:20250926T180000
DTSTAMP:20260421T231256
CREATED:20250703T174704Z
LAST-MODIFIED:20250703T174704Z
UID:10000075-1758909600-1758909600@www.myspencercounty.com
SUMMARY:St. Meinrad Rocks Festival
DESCRIPTION:Friday\, September 26\, 2025 – Saturday\, September 27\, 2025 \nMark your calendar for the 14th annual St. Meinrad Rocks Festival at the St. Meinrad Park. The two-day outdoor event will feature a full lineup of performers on two stages\, vendors\, children’s activities\, raffle\, beer garden\, and food trucks and booths. \nAdmission is free. \nBring lawn chairs; no coolers or glass. \nProceeds benefit the St. Meinrad Town Museum Fund. \nPerformance Schedule\nAll times listed are Central and subject to change \nFriday\, September 26\n6:00pm – Star-Spangled Banner (TBD)\n6:05 – Silly Rules\n7:30 – Bobby Clark\n8:30 – Cage Willis \nSaturday\, September 27\n12:30pm – Star-Spangled Banner by James Wagner\, Jr.\nBeer Garden & Food Trucks/Booths Open\n1:00 – 6:00pm Vendor Fair (Park Area)\n1:00 – Roulette\n2:00 – Silly Safari Live Animal Show (Park Area)\n2:45 – Lindsey James Williams\n3:30 – Indian Creek\n4:45 – Ronnie Troesch\n5:30 – Dispel\n6:45 – Alec Olinger\n7:30 – Rhoads Scholars – A Tribute to Randy\n8:30 – Angel Rhodes\n9:15 – Kofi Baker’s Psychedelic Trip \nContact: (812) 309-8523
URL:https://www.myspencercounty.com/calendar-of-event/st-meinrad-rocks-festival/
LOCATION:St. Meinrad Park\, 19568 North 2nd Street\, St. Meinrad\, IN\, 47577\, United States
CATEGORIES:Music,St. Meinrad
ATTACH;FMTTYPE=image/jpeg:https://www.myspencercounty.com/wp-content/uploads/2025/07/St.-Meinrad-ROCKS-Festival.jpg
END:VEVENT
END:VCALENDAR