BEGIN:VCALENDAR
VERSION:2.0
PRODID:-//My Spencer County - ECPv6.15.20//NONSGML v1.0//EN
CALSCALE:GREGORIAN
METHOD:PUBLISH
X-ORIGINAL-URL:https://www.myspencercounty.com
X-WR-CALDESC:Events for My Spencer County
REFRESH-INTERVAL;VALUE=DURATION:PT1H
X-Robots-Tag:noindex
X-PUBLISHED-TTL:PT1H
BEGIN:VTIMEZONE
TZID:America/Indiana/Tell_City
BEGIN:DAYLIGHT
TZOFFSETFROM:-0600
TZOFFSETTO:-0500
TZNAME:CDT
DTSTART:20250309T080000
END:DAYLIGHT
BEGIN:STANDARD
TZOFFSETFROM:-0500
TZOFFSETTO:-0600
TZNAME:CST
DTSTART:20251102T070000
END:STANDARD
BEGIN:DAYLIGHT
TZOFFSETFROM:-0600
TZOFFSETTO:-0500
TZNAME:CDT
DTSTART:20260308T080000
END:DAYLIGHT
BEGIN:STANDARD
TZOFFSETFROM:-0500
TZOFFSETTO:-0600
TZNAME:CST
DTSTART:20261101T070000
END:STANDARD
BEGIN:DAYLIGHT
TZOFFSETFROM:-0600
TZOFFSETTO:-0500
TZNAME:CDT
DTSTART:20270314T080000
END:DAYLIGHT
BEGIN:STANDARD
TZOFFSETFROM:-0500
TZOFFSETTO:-0600
TZNAME:CST
DTSTART:20271107T070000
END:STANDARD
END:VTIMEZONE
BEGIN:VEVENT
DTSTART;TZID=America/Indiana/Tell_City:20260425T110000
DTEND;TZID=America/Indiana/Tell_City:20260425T130000
DTSTAMP:20260421T205836
CREATED:20260421T191905Z
LAST-MODIFIED:20260421T192005Z
UID:10000188-1777114800-1777122000@www.myspencercounty.com
SUMMARY:Earth Day/Arbor Day Celebration
DESCRIPTION:Saturday\, April 25\, 2026 from 11:00am – 1:00pm \nSanta Claus Museum & Village\, in partnership with Spencer County Soil & Water District\, Vallonia Nursery\, and Lincoln State Park\, will host an Arbor Day and Earth Day Celebration on Saturday\, April 25\, 2026. \nVisitors will receive a free seedling (limit two per person) from Vallonia Nursery\, and the Lincoln State Park naturalist will be on hand to give planting and care instructions and answer questions. Spencer County Soil & Water District will also give away free soil sample kits. \nWhile you’re there\, don’t forget to visit the museum\, write your letter to Santa in the town’s original post office\, and snap a “Santa selfie” with the historic 22-foot-tall Santa statue! \nClick here to view more details at the Museum’s website 
URL:https://www.myspencercounty.com/calendar-of-event/earth-day-arbor-day-celebration/
LOCATION:Santa Claus Museum & Village\, 69 State Road 245\, Santa Claus\, 47579\, United States
CATEGORIES:Community Event,Kid Friendly,Santa Claus
ATTACH;FMTTYPE=image/webp:https://www.myspencercounty.com/wp-content/uploads/2025/06/things-santa-claus-museum.webp
END:VEVENT
END:VCALENDAR