BEGIN:VCALENDAR
VERSION:2.0
PRODID:-//My Spencer County - ECPv6.15.20//NONSGML v1.0//EN
CALSCALE:GREGORIAN
METHOD:PUBLISH
X-ORIGINAL-URL:https://www.myspencercounty.com
X-WR-CALDESC:Events for My Spencer County
REFRESH-INTERVAL;VALUE=DURATION:PT1H
X-Robots-Tag:noindex
X-PUBLISHED-TTL:PT1H
BEGIN:VTIMEZONE
TZID:America/Indiana/Tell_City
BEGIN:DAYLIGHT
TZOFFSETFROM:-0600
TZOFFSETTO:-0500
TZNAME:CDT
DTSTART:20240310T080000
END:DAYLIGHT
BEGIN:STANDARD
TZOFFSETFROM:-0500
TZOFFSETTO:-0600
TZNAME:CST
DTSTART:20241103T070000
END:STANDARD
BEGIN:DAYLIGHT
TZOFFSETFROM:-0600
TZOFFSETTO:-0500
TZNAME:CDT
DTSTART:20250309T080000
END:DAYLIGHT
BEGIN:STANDARD
TZOFFSETFROM:-0500
TZOFFSETTO:-0600
TZNAME:CST
DTSTART:20251102T070000
END:STANDARD
BEGIN:DAYLIGHT
TZOFFSETFROM:-0600
TZOFFSETTO:-0500
TZNAME:CDT
DTSTART:20260308T080000
END:DAYLIGHT
BEGIN:STANDARD
TZOFFSETFROM:-0500
TZOFFSETTO:-0600
TZNAME:CST
DTSTART:20261101T070000
END:STANDARD
END:VTIMEZONE
BEGIN:VEVENT
DTSTART;TZID=America/Indiana/Tell_City:20251221T110000
DTEND;TZID=America/Indiana/Tell_City:20251221T130000
DTSTAMP:20260421T205543
CREATED:20251219T204232Z
LAST-MODIFIED:20251219T205423Z
UID:10000141-1766314800-1766322000@www.myspencercounty.com
SUMMARY:Crochet Day at the Historic Santa Claus Church
DESCRIPTION:Make a free crochet ornament to take home!Admission is free; donations are accepted. \nWhile visiting the Santa Claus Museum & Village for the event\, guests are invited to tour the museum and Santa’s Office\, take a photo with the historic 22-foot-tall Santa statue\, write a letter to Santa\, and more!
URL:https://www.myspencercounty.com/calendar-of-event/scrochet-day-at-the-historic-santa-claus-church/
LOCATION:Santa Claus Museum & Village\, 69 State Road 245\, Santa Claus\, 47579\, United States
CATEGORIES:Christmas,Kid Friendly,Santa Claus
ATTACH;FMTTYPE=image/jpeg:https://www.myspencercounty.com/wp-content/uploads/2025/12/christmas-activities-santa-claus-historic-church.jpg
END:VEVENT
BEGIN:VEVENT
DTSTART;TZID=America/Indiana/Tell_City:20251128T110000
DTEND;TZID=America/Indiana/Tell_City:20251128T130000
DTSTAMP:20260421T205543
CREATED:20251105T194644Z
LAST-MODIFIED:20251105T223245Z
UID:10000128-1764327600-1764334800@www.myspencercounty.com
SUMMARY:"Could It Be Santa?" Storytime
DESCRIPTION:Lori Parrish will offer readings of the new Christmas classic “Could It Be Santa?” in the historic Santa Claus Church at Santa Claus Museum & Village. \nStory sessions will happen every half hour from 11:00 am – 1:00 pm CT. \nChildren will receive a free treat and take-and-make Christmas craft. \nAdmission is free; donations are accepted. \nWhile visiting the Santa Claus Museum & Village for the event\, guests are invited to tour the museum and Santa’s Office\, take a photo with the historic 22-foot-tall Santa statue\, write a letter to Santa\, and more. \nFor more information visit our website or call (812) 544-2434.
URL:https://www.myspencercounty.com/calendar-of-event/could-it-be-santa-storytime/
LOCATION:Santa Claus Museum & Village\, 69 State Road 245\, Santa Claus\, 47579\, United States
CATEGORIES:Christmas,Kid Friendly,Santa Claus
ATTACH;FMTTYPE=image/jpeg:https://www.myspencercounty.com/wp-content/uploads/2025/11/santa-claus-church.jpg
END:VEVENT
BEGIN:VEVENT
DTSTART;TZID=America/Indiana/Tell_City:20250719T080000
DTEND;TZID=America/Indiana/Tell_City:20250719T120000
DTSTAMP:20260421T205543
CREATED:20250702T154709Z
LAST-MODIFIED:20250702T154709Z
UID:10000015-1752912000-1752926400@www.myspencercounty.com
SUMMARY:Christmas in July Vendor Fair and Flea Market
DESCRIPTION:Shop the most festive flea market around on Saturday\, July 19\, 2025\, at the Santa Claus Museum & Village! Discover unique treasures\, including craft items\, vintage pieces\, baked goods\, and more. \nWhile you’re there\, don’t forget to visit the museum\, write your letter to Santa in the town’s original post office\, and snap a “Santa selfie” with the historic 22-foot-tall Santa statue! \nFree Admission \nClick here to view more details at the Museum’s website 
URL:https://www.myspencercounty.com/calendar-of-event/christmas-in-july-vendor-fair-and-flea-market/
LOCATION:Santa Claus Museum & Village\, 69 State Road 245\, Santa Claus\, 47579\, United States
CATEGORIES:Fairs & Festivals,Kid Friendly,Santa Claus,Shopping
ATTACH;FMTTYPE=image/jpeg:https://www.myspencercounty.com/wp-content/uploads/2025/07/Christmas-in-July-Vendor-Fair-and-Flea-Market.jpg
END:VEVENT
BEGIN:VEVENT
DTSTART;TZID=America/Indiana/Tell_City:20250712T080000
DTEND;TZID=America/Indiana/Tell_City:20250712T120000
DTSTAMP:20260421T205543
CREATED:20250630T212233Z
LAST-MODIFIED:20250701T150726Z
UID:10000004-1752307200-1752321600@www.myspencercounty.com
SUMMARY:Christmas in July Craft Fair
DESCRIPTION:Christmas comes early to the Santa Claus Museum & Village this summer! Get a jump on your holiday shopping as you browse unique handmade crafts from local vendors during the Christmas in July Craft Fair on Saturday\, July 12\, 2025. \nWhile you’re there\, don’t forget to visit the museum\, write your letter to Santa in the town’s original post office\, and snap a “Santa selfie” with the historic 22-foot-tall Santa statue! \nFree Admission \nClick here to view more details at the Museum’s website 
URL:https://www.myspencercounty.com/calendar-of-event/christmas-in-july-craft-fair/
LOCATION:Santa Claus Museum & Village\, 69 State Road 245\, Santa Claus\, 47579\, United States
CATEGORIES:Fairs & Festivals,Kid Friendly,Santa Claus,Shopping
ATTACH;FMTTYPE=image/jpeg:https://www.myspencercounty.com/wp-content/uploads/2025/06/Christmas-in-July-Craft-Fair.jpg
END:VEVENT
END:VCALENDAR