BEGIN:VCALENDAR
VERSION:2.0
PRODID:-//My Spencer County - ECPv6.15.20//NONSGML v1.0//EN
CALSCALE:GREGORIAN
METHOD:PUBLISH
X-ORIGINAL-URL:https://www.myspencercounty.com
X-WR-CALDESC:Events for My Spencer County
REFRESH-INTERVAL;VALUE=DURATION:PT1H
X-Robots-Tag:noindex
X-PUBLISHED-TTL:PT1H
BEGIN:VTIMEZONE
TZID:America/Indiana/Tell_City
BEGIN:DAYLIGHT
TZOFFSETFROM:-0600
TZOFFSETTO:-0500
TZNAME:CDT
DTSTART:20240310T080000
END:DAYLIGHT
BEGIN:STANDARD
TZOFFSETFROM:-0500
TZOFFSETTO:-0600
TZNAME:CST
DTSTART:20241103T070000
END:STANDARD
BEGIN:DAYLIGHT
TZOFFSETFROM:-0600
TZOFFSETTO:-0500
TZNAME:CDT
DTSTART:20250309T080000
END:DAYLIGHT
BEGIN:STANDARD
TZOFFSETFROM:-0500
TZOFFSETTO:-0600
TZNAME:CST
DTSTART:20251102T070000
END:STANDARD
BEGIN:DAYLIGHT
TZOFFSETFROM:-0600
TZOFFSETTO:-0500
TZNAME:CDT
DTSTART:20260308T080000
END:DAYLIGHT
BEGIN:STANDARD
TZOFFSETFROM:-0500
TZOFFSETTO:-0600
TZNAME:CST
DTSTART:20261101T070000
END:STANDARD
BEGIN:DAYLIGHT
TZOFFSETFROM:-0600
TZOFFSETTO:-0500
TZNAME:CDT
DTSTART:20270314T080000
END:DAYLIGHT
BEGIN:STANDARD
TZOFFSETFROM:-0500
TZOFFSETTO:-0600
TZNAME:CST
DTSTART:20271107T070000
END:STANDARD
END:VTIMEZONE
BEGIN:VEVENT
DTSTART;TZID=America/Indiana/Tell_City:20260324T193000
DTEND;TZID=America/Indiana/Tell_City:20260324T193000
DTSTAMP:20260421T222513
CREATED:20260106T162301Z
LAST-MODIFIED:20260106T162322Z
UID:10000146-1774380600-1774380600@www.myspencercounty.com
SUMMARY:La Voce!
DESCRIPTION:Saint Meinrad Archabbey Cultural Events will present Timothy Renner and Jacqueline Piccolino performing La Voce! in St. Bede Hall Theater on Tuesday\, March 24\, 2026. \nRenner is an active international performing artist whose recent operatic engagements include Moralès in Carmen with Palm Beach Opera\, Escamillo in Carmen at the New National Theatre\, Tokyo\, and Marcello in La bohème with the Lyric Opera of Kansas City. \nAmerican soprano Piccolino has been called “an artist to watch” by the San Francisco Chronicle. She debuted with the Portland Opera in 2024 performing a concert of works by Puccini and recently returned to Seattle Opera in Das Rheingold performing the role of Woglinde. \nThe program is free and open to the public. Parking is available in the Guest House and student parking lots. For more information\, call (812) 357-6501 during business hours; for updates day of the performance\, call (812) 357-6611. \nContact \n\n(812) 357-6611\nFor more information visit our website
URL:https://www.myspencercounty.com/calendar-of-event/la-voce/
LOCATION:Saint Meinrad Archabbey\, 200 Hill Drive\, St. Meinrad\, 47577\, United States
CATEGORIES:Community Event,Music,St. Meinrad
ATTACH;FMTTYPE=image/webp:https://www.myspencercounty.com/wp-content/uploads/2026/01/st-meinrad-spring-blossoms.webp
END:VEVENT
BEGIN:VEVENT
DTSTART;TZID=America/Indiana/Tell_City:20260220T193000
DTEND;TZID=America/Indiana/Tell_City:20260220T193000
DTSTAMP:20260421T222513
CREATED:20260106T161838Z
LAST-MODIFIED:20260106T162443Z
UID:10000145-1771615800-1771615800@www.myspencercounty.com
SUMMARY:Pacifica Quartet
DESCRIPTION:Saint Meinrad Archabbey Cultural Events will present the Pacifica Quartet in St. Bede Hall Theater on Friday\, February 20\, 2026. \nThe multiple Grammy Award-winning quartet boasts a career spanning three decades and has been internationally recognized as one of the finest chamber ensembles performing today. \nKnown for an exuberant performance style and often-daring repertory choices\, the Pacifica Quartet has performed around the world. \nThe program is free and open to the public. Parking is available in the Guest House and student parking lots. For more information\, call (812) 357-6501 during business hours; for updates day of the performance\, call (812) 357-6611. \nContact \n\n(812) 357-6611\nFor more information visit our website
URL:https://www.myspencercounty.com/calendar-of-event/pacifica-quartet/
LOCATION:Saint Meinrad Archabbey\, 200 Hill Drive\, St. Meinrad\, 47577\, United States
CATEGORIES:Community Event,Music,St. Meinrad
ATTACH;FMTTYPE=image/webp:https://www.myspencercounty.com/wp-content/uploads/2026/01/st-meinrad-snowy.webp
END:VEVENT
BEGIN:VEVENT
DTSTART;TZID=America/Indiana/Tell_City:20251114T193000
DTEND;TZID=America/Indiana/Tell_City:20251114T193000
DTSTAMP:20260421T222513
CREATED:20251105T220728Z
LAST-MODIFIED:20251105T220735Z
UID:10000131-1763148600-1763148600@www.myspencercounty.com
SUMMARY:Organ Concert by Dr. Ryan Kennedy
DESCRIPTION:Saint Meinrad Archabbey Cultural Events will present an organ concert by Dr. Ryan Kennedy on Friday\, November 14\, 2025\, in the Archabbey Church. \nKennedy\, the director of liturgical music at Saint Meinrad Seminary and School of Theology\, is known for his innovative and adventurous programming\, incorporating orchestral and piano music transcriptions. \nThe program is free and open to the public. \nParking is available in the Guest House and student parking lots. \nFor more information\, call (812) 357-6501 during business hours\, or click here to visit our website
URL:https://www.myspencercounty.com/calendar-of-event/organ-concert-by-dr-ryan-kennedy/
LOCATION:Saint Meinrad Archabbey\, 200 Hill Drive\, St. Meinrad\, 47577\, United States
CATEGORIES:Community Event,Music,Religious,St. Meinrad
ATTACH;FMTTYPE=image/jpeg:https://www.myspencercounty.com/wp-content/uploads/2025/11/st-meinrad-archabbey-summer.jpg
END:VEVENT
BEGIN:VEVENT
DTSTART;TZID=America/Indiana/Tell_City:20251107T193000
DTEND;TZID=America/Indiana/Tell_City:20251107T193000
DTSTAMP:20260421T222513
CREATED:20251105T215641Z
LAST-MODIFIED:20251105T220429Z
UID:10000129-1762543800-1762543800@www.myspencercounty.com
SUMMARY:Cantus
DESCRIPTION:Saint Meinrad Archabbey Cultural Events will present Cantus on Friday\, November 7\, 2025\, in St. Bede Theater. \nNow in its 30th anniversary season\, the low-voice ensemble is know for innovative programming and riveting performances of music ranging from the Renaissance to the 21st century. \nThe program is free and open to the public. \nParking is available in the Guest House and student parking lots. \nFor more information\, call (812) 357-6501 during business hours\, or click here to visit our website
URL:https://www.myspencercounty.com/calendar-of-event/cantus/
LOCATION:Saint Meinrad Archabbey\, 200 Hill Drive\, St. Meinrad\, 47577\, United States
CATEGORIES:Community Event,Music,Religious,St. Meinrad
ATTACH;FMTTYPE=image/jpeg:https://www.myspencercounty.com/wp-content/uploads/2025/11/st-meinrad-fall.jpg
END:VEVENT
BEGIN:VEVENT
DTSTART;TZID=America/Indiana/Tell_City:20250927T083000
DTEND;TZID=America/Indiana/Tell_City:20250927T083000
DTSTAMP:20260421T222513
CREATED:20250703T175638Z
LAST-MODIFIED:20250703T175823Z
UID:10000077-1758961800-1758961800@www.myspencercounty.com
SUMMARY:On the Hill 5K
DESCRIPTION:Saturday\, September 27\, 2025 \nSaint Meinrad Archabbey will host the annual On the Hill 5K walk/run. \nAll registered participants will receive a T-shirt and refreshments at the finish line. Top finisher and attendance prizes will be awarded. Must be present to win. \nParticipants are welcome to join the Saint Meinrad monks for Mass in the Archabbey Church prior to the race at 7:30 am (running attire welcome). \nVisit the Saint Meinrad Wellness website for updates and information. \nContact: (812) 357-6616
URL:https://www.myspencercounty.com/calendar-of-event/on-the-hill-5k/
LOCATION:Saint Meinrad Archabbey\, 200 Hill Drive\, St. Meinrad\, 47577\, United States
CATEGORIES:Recreation & Sports,St. Meinrad
ATTACH;FMTTYPE=image/jpeg:https://www.myspencercounty.com/wp-content/uploads/2025/07/On-the-Hill-5K.jpg
END:VEVENT
END:VCALENDAR