BEGIN:VCALENDAR
VERSION:2.0
PRODID:-//My Spencer County - ECPv6.15.20//NONSGML v1.0//EN
CALSCALE:GREGORIAN
METHOD:PUBLISH
X-ORIGINAL-URL:https://www.myspencercounty.com
X-WR-CALDESC:Events for My Spencer County
REFRESH-INTERVAL;VALUE=DURATION:PT1H
X-Robots-Tag:noindex
X-PUBLISHED-TTL:PT1H
BEGIN:VTIMEZONE
TZID:America/Indiana/Tell_City
BEGIN:DAYLIGHT
TZOFFSETFROM:-0600
TZOFFSETTO:-0500
TZNAME:CDT
DTSTART:20240310T080000
END:DAYLIGHT
BEGIN:STANDARD
TZOFFSETFROM:-0500
TZOFFSETTO:-0600
TZNAME:CST
DTSTART:20241103T070000
END:STANDARD
BEGIN:DAYLIGHT
TZOFFSETFROM:-0600
TZOFFSETTO:-0500
TZNAME:CDT
DTSTART:20250309T080000
END:DAYLIGHT
BEGIN:STANDARD
TZOFFSETFROM:-0500
TZOFFSETTO:-0600
TZNAME:CST
DTSTART:20251102T070000
END:STANDARD
BEGIN:DAYLIGHT
TZOFFSETFROM:-0600
TZOFFSETTO:-0500
TZNAME:CDT
DTSTART:20260308T080000
END:DAYLIGHT
BEGIN:STANDARD
TZOFFSETFROM:-0500
TZOFFSETTO:-0600
TZNAME:CST
DTSTART:20261101T070000
END:STANDARD
END:VTIMEZONE
BEGIN:VEVENT
DTSTART;TZID=America/Indiana/Tell_City:20250905T170000
DTEND;TZID=America/Indiana/Tell_City:20250905T190000
DTSTAMP:20260421T213423
CREATED:20250702T211724Z
LAST-MODIFIED:20250702T212257Z
UID:10000023-1757091600-1757098800@www.myspencercounty.com
SUMMARY:Night Out Against Crime
DESCRIPTION:September 5\, 2025 – 5pm to 7pm \nRockport City Park \nLive Music – Free Food – Inflatables \nEveryone is Welcome \nCome out and meet your local Law Enforcement Officers \nPresented by Lincoln Land FOP Lodge #203
URL:https://www.myspencercounty.com/calendar-of-event/night-out-against-crime/
LOCATION:Rockport City Park\, 930 Fairground Dr\, Rockport\, IN\, 47635\, United States
CATEGORIES:Community Event,Kid Friendly,Rockport
ATTACH;FMTTYPE=image/webp:https://www.myspencercounty.com/wp-content/uploads/2025/07/night-out-against-crime.webp
END:VEVENT
END:VCALENDAR