BEGIN:VCALENDAR
VERSION:2.0
PRODID:-//My Spencer County - ECPv6.15.20//NONSGML v1.0//EN
CALSCALE:GREGORIAN
METHOD:PUBLISH
X-ORIGINAL-URL:https://www.myspencercounty.com
X-WR-CALDESC:Events for My Spencer County
REFRESH-INTERVAL;VALUE=DURATION:PT1H
X-Robots-Tag:noindex
X-PUBLISHED-TTL:PT1H
BEGIN:VTIMEZONE
TZID:America/Indiana/Tell_City
BEGIN:DAYLIGHT
TZOFFSETFROM:-0600
TZOFFSETTO:-0500
TZNAME:CDT
DTSTART:20240310T080000
END:DAYLIGHT
BEGIN:STANDARD
TZOFFSETFROM:-0500
TZOFFSETTO:-0600
TZNAME:CST
DTSTART:20241103T070000
END:STANDARD
BEGIN:DAYLIGHT
TZOFFSETFROM:-0600
TZOFFSETTO:-0500
TZNAME:CDT
DTSTART:20250309T080000
END:DAYLIGHT
BEGIN:STANDARD
TZOFFSETFROM:-0500
TZOFFSETTO:-0600
TZNAME:CST
DTSTART:20251102T070000
END:STANDARD
BEGIN:DAYLIGHT
TZOFFSETFROM:-0600
TZOFFSETTO:-0500
TZNAME:CDT
DTSTART:20260308T080000
END:DAYLIGHT
BEGIN:STANDARD
TZOFFSETFROM:-0500
TZOFFSETTO:-0600
TZNAME:CST
DTSTART:20261101T070000
END:STANDARD
BEGIN:DAYLIGHT
TZOFFSETFROM:-0600
TZOFFSETTO:-0500
TZNAME:CDT
DTSTART:20270314T080000
END:DAYLIGHT
BEGIN:STANDARD
TZOFFSETFROM:-0500
TZOFFSETTO:-0600
TZNAME:CST
DTSTART:20271107T070000
END:STANDARD
END:VTIMEZONE
BEGIN:VEVENT
DTSTART;TZID=America/Indiana/Tell_City:20260101T120000
DTEND;TZID=America/Indiana/Tell_City:20260101T120000
DTSTAMP:20260421T155734
CREATED:20251219T210322Z
LAST-MODIFIED:20251219T210402Z
UID:10000143-1767268800-1767268800@www.myspencercounty.com
SUMMARY:First Day Hike
DESCRIPTION:Kick off 2026 with a walk in the woods! Lincoln State Park’s First Day Hike will be held on January 1\, 2026. \nHikers should meet at the Beach House at noon. \nGate entrance fee applies: $7 for in-state license plates; $9 for out-of-state
URL:https://www.myspencercounty.com/calendar-of-event/first-day-hike/
LOCATION:Lincoln State Park\, State Road 162\, Lincoln City\, IN\, 47552\, United States
CATEGORIES:Lincoln State Park,Recreation & Sports
ATTACH;FMTTYPE=image/jpeg:https://www.myspencercounty.com/wp-content/uploads/2025/12/first-day-hike.jpg
END:VEVENT
BEGIN:VEVENT
DTSTART;TZID=America/Indiana/Tell_City:20250927T150000
DTEND;TZID=America/Indiana/Tell_City:20250927T180000
DTSTAMP:20260421T155734
CREATED:20250703T162615Z
LAST-MODIFIED:20250703T162615Z
UID:10000046-1758985200-1758996000@www.myspencercounty.com
SUMMARY:Honest Abe Trail Run
DESCRIPTION:Saturday\, September 20\, 2025 \nAll three distances will start at 7:30 a.m. central time. Bib pick-up and mandatory participant sign-in is from 6:00 to 7:15 a.m. \nRace through the woods inside Lincoln State Park at the Honest Abe Trail Run! \nThe scenic race includes 5K\, 14K\, and marathon options. The race course loops through the park on double-track roads\, both paved and gravel. \nRegistration information to be announced; watch the Honest Abe Trail website for more information. \nContact: (317) 850-9638\nFor more information visit our website
URL:https://www.myspencercounty.com/calendar-of-event/honest-abe-trail-run/
LOCATION:Lincoln State Park\, State Road 162\, Lincoln City\, IN\, 47552\, United States
CATEGORIES:Lincoln State Park,Recreation & Sports
ATTACH;FMTTYPE=image/jpeg:https://www.myspencercounty.com/wp-content/uploads/2025/07/Honest-Abe-Trail-Run.jpg
END:VEVENT
END:VCALENDAR