BEGIN:VCALENDAR
VERSION:2.0
PRODID:-//My Spencer County - ECPv6.15.20//NONSGML v1.0//EN
CALSCALE:GREGORIAN
METHOD:PUBLISH
X-ORIGINAL-URL:https://www.myspencercounty.com
X-WR-CALDESC:Events for My Spencer County
REFRESH-INTERVAL;VALUE=DURATION:PT1H
X-Robots-Tag:noindex
X-PUBLISHED-TTL:PT1H
BEGIN:VTIMEZONE
TZID:America/Indiana/Tell_City
BEGIN:DAYLIGHT
TZOFFSETFROM:-0600
TZOFFSETTO:-0500
TZNAME:CDT
DTSTART:20250309T080000
END:DAYLIGHT
BEGIN:STANDARD
TZOFFSETFROM:-0500
TZOFFSETTO:-0600
TZNAME:CST
DTSTART:20251102T070000
END:STANDARD
BEGIN:DAYLIGHT
TZOFFSETFROM:-0600
TZOFFSETTO:-0500
TZNAME:CDT
DTSTART:20260308T080000
END:DAYLIGHT
BEGIN:STANDARD
TZOFFSETFROM:-0500
TZOFFSETTO:-0600
TZNAME:CST
DTSTART:20261101T070000
END:STANDARD
BEGIN:DAYLIGHT
TZOFFSETFROM:-0600
TZOFFSETTO:-0500
TZNAME:CDT
DTSTART:20270314T080000
END:DAYLIGHT
BEGIN:STANDARD
TZOFFSETFROM:-0500
TZOFFSETTO:-0600
TZNAME:CST
DTSTART:20271107T070000
END:STANDARD
END:VTIMEZONE
BEGIN:VEVENT
DTSTART;TZID=America/Indiana/Tell_City:20260509T090000
DTEND;TZID=America/Indiana/Tell_City:20260509T160000
DTSTAMP:20260421T212947
CREATED:20260421T194556Z
LAST-MODIFIED:20260421T194556Z
UID:10000193-1778317200-1778342400@www.myspencercounty.com
SUMMARY:Spring Heritage Day
DESCRIPTION:Saturday\, May 9\, 2026 from 9:00am – 4:00pm \nBecome a part of the past at Lincoln Pioneer Village & Museum! \nRelive history as you step back to the time and place where Lincoln grew up! \nA day of fun and education for all ages\, with costumed interpreters\, sheep shearing\, candle dipping\, rope making\, blacksmith\, storyteller\, a visit with Abe\, museum tour\, music\, food\, and more. \nFor more information visit our website or call (812) 649-9147
URL:https://www.myspencercounty.com/calendar-of-event/spring-heritage-day/
LOCATION:Lincoln Pioneer Village & Museum\, 928 Fairground Drive\, Rockport\, Indiana\, 47635
CATEGORIES:Community Event,Kid Friendly,Rockport
ATTACH;FMTTYPE=image/webp:https://www.myspencercounty.com/wp-content/uploads/2026/04/spring-heritage-day.webp
END:VEVENT
END:VCALENDAR