BEGIN:VCALENDAR
VERSION:2.0
PRODID:-//My Spencer County - ECPv6.15.20//NONSGML v1.0//EN
CALSCALE:GREGORIAN
METHOD:PUBLISH
X-WR-CALNAME:My Spencer County
X-ORIGINAL-URL:https://www.myspencercounty.com
X-WR-CALDESC:Events for My Spencer County
REFRESH-INTERVAL;VALUE=DURATION:PT1H
X-Robots-Tag:noindex
X-PUBLISHED-TTL:PT1H
BEGIN:VTIMEZONE
TZID:America/Indiana/Tell_City
BEGIN:DAYLIGHT
TZOFFSETFROM:-0600
TZOFFSETTO:-0500
TZNAME:CDT
DTSTART:20250309T080000
END:DAYLIGHT
BEGIN:STANDARD
TZOFFSETFROM:-0500
TZOFFSETTO:-0600
TZNAME:CST
DTSTART:20251102T070000
END:STANDARD
BEGIN:DAYLIGHT
TZOFFSETFROM:-0600
TZOFFSETTO:-0500
TZNAME:CDT
DTSTART:20260308T080000
END:DAYLIGHT
BEGIN:STANDARD
TZOFFSETFROM:-0500
TZOFFSETTO:-0600
TZNAME:CST
DTSTART:20261101T070000
END:STANDARD
BEGIN:DAYLIGHT
TZOFFSETFROM:-0600
TZOFFSETTO:-0500
TZNAME:CDT
DTSTART:20270314T080000
END:DAYLIGHT
BEGIN:STANDARD
TZOFFSETFROM:-0500
TZOFFSETTO:-0600
TZNAME:CST
DTSTART:20271107T070000
END:STANDARD
END:VTIMEZONE
BEGIN:VEVENT
DTSTART;TZID=America/Indiana/Tell_City:20260428T100000
DTEND;TZID=America/Indiana/Tell_City:20260428T130000
DTSTAMP:20260421T205948
CREATED:20260421T210738Z
LAST-MODIFIED:20260421T210738Z
UID:10000198-1777370400-1777381200@www.myspencercounty.com
SUMMARY:Community Job Fair
DESCRIPTION:Community Job Fair for Spencer County\, IndianaLooking for a job? Thinking about changing careers? Come see us at a local\, intentional Job Fair at Lincoln Commerce Center. \nTuesday\, April 28th from 10-1. Come see what Spencer County has to offer! \nSponsored in part by the Mulzer family of companies\, Superior Ag\, Ellis Park Racing & Gaming\, Holiday World & Splashin’ Safari\, and Corn Island Shipyard.
URL:https://www.myspencercounty.com/calendar-of-event/community-job-fair/
LOCATION:Lincoln Commerce Center\, 2792 N US 231\, Rockport\, 47635\, United States
CATEGORIES:Job Fairs,Rockport
ATTACH;FMTTYPE=image/webp:https://www.myspencercounty.com/wp-content/uploads/2026/04/GROW-spencer-county-job-fair.webp
ORGANIZER;CN="GROW Spencer County%2C Inc.":MAILTO:lisa@selectspencercounty.org
END:VEVENT
END:VCALENDAR