BEGIN:VCALENDAR
VERSION:2.0
PRODID:-//My Spencer County - ECPv6.15.20//NONSGML v1.0//EN
CALSCALE:GREGORIAN
METHOD:PUBLISH
X-WR-CALNAME:My Spencer County
X-ORIGINAL-URL:https://www.myspencercounty.com
X-WR-CALDESC:Events for My Spencer County
REFRESH-INTERVAL;VALUE=DURATION:PT1H
X-Robots-Tag:noindex
X-PUBLISHED-TTL:PT1H
BEGIN:VTIMEZONE
TZID:America/Indiana/Tell_City
BEGIN:DAYLIGHT
TZOFFSETFROM:-0600
TZOFFSETTO:-0500
TZNAME:CDT
DTSTART:20240310T080000
END:DAYLIGHT
BEGIN:STANDARD
TZOFFSETFROM:-0500
TZOFFSETTO:-0600
TZNAME:CST
DTSTART:20241103T070000
END:STANDARD
BEGIN:DAYLIGHT
TZOFFSETFROM:-0600
TZOFFSETTO:-0500
TZNAME:CDT
DTSTART:20250309T080000
END:DAYLIGHT
BEGIN:STANDARD
TZOFFSETFROM:-0500
TZOFFSETTO:-0600
TZNAME:CST
DTSTART:20251102T070000
END:STANDARD
BEGIN:DAYLIGHT
TZOFFSETFROM:-0600
TZOFFSETTO:-0500
TZNAME:CDT
DTSTART:20260308T080000
END:DAYLIGHT
BEGIN:STANDARD
TZOFFSETFROM:-0500
TZOFFSETTO:-0600
TZNAME:CST
DTSTART:20261101T070000
END:STANDARD
END:VTIMEZONE
BEGIN:VEVENT
DTSTART;TZID=America/Indiana/Tell_City:20250906T183000
DTEND;TZID=America/Indiana/Tell_City:20250906T183000
DTSTAMP:20260421T230944
CREATED:20250703T161005Z
LAST-MODIFIED:20250703T161005Z
UID:10000044-1757183400-1757183400@www.myspencercounty.com
SUMMARY:On the Border: The Ultimate Eagles Tribute
DESCRIPTION:Saturday\, September 14\, 2025\, 4:00pm CT \nOn the Border will follow up its sold-out Saturday night performance with a special Sunday afternoon Amp Unplugged acoustic matinee pm September 14\, 2025. \nFrom “Take it Easy” to “Hotel California\,” On the Border gives fans the authentic Eagles concert experience with hit after hit. Having played at major concert venues\, casinos\, festivals\, and the famous Whisky a Go Go in Los Angeles\, the band now brings it talents to the Lincoln Amphitheatre stage. \nTickets available at the Lincoln Amphitheatre website. Ticket price includes concert admission\, parking\, and Lincoln State Park gate fee. \nDoors open at 3:00 pm CT; performance starts at 4:00 pm CT.
URL:https://www.myspencercounty.com/calendar-of-event/on-the-border-the-ultimate-eagles-tribute/
LOCATION:Lincoln Amphitheatre\, 15032 East County Road 1500\, Lincoln City\, IN\, 47552\, United States
CATEGORIES:Lincoln Amphitheatre,Music
ATTACH;FMTTYPE=image/jpeg:https://www.myspencercounty.com/wp-content/uploads/2025/07/On-the-Border-Eagle-Tribute.jpg
END:VEVENT
BEGIN:VEVENT
DTSTART;TZID=America/Indiana/Tell_City:20250906T183000
DTEND;TZID=America/Indiana/Tell_City:20250906T183000
DTSTAMP:20260421T230944
CREATED:20250703T154616Z
LAST-MODIFIED:20250703T154616Z
UID:10000039-1757183400-1757183400@www.myspencercounty.com
SUMMARY:Josh Turner: This Country Music Thing Tour
DESCRIPTION:Saturday\, September 6\, 2025\, 6:30pm CT \nWith five number one singles\, two Grammy nominations\, six Inspiration Country Music Awards\, and more accolades\, multi-platinum country artist Josh Turner brings an impressive catalog to his performance at Lincoln Amphitheatre. \nOpening act TBA. \nTickets available at the Lincoln Amphitheatre website. Ticket price includes concert admission\, parking\, and Lincoln State Park gate fee. \nVIP doors open at 5:00 pm CT; for all other ticket types\, doors at 5:30 pm CT.
URL:https://www.myspencercounty.com/calendar-of-event/josh-turner-this-country-music-thing-tour/
LOCATION:Lincoln Amphitheatre\, 15032 East County Road 1500\, Lincoln City\, IN\, 47552\, United States
CATEGORIES:Lincoln Amphitheatre,Music
ATTACH;FMTTYPE=image/jpeg:https://www.myspencercounty.com/wp-content/uploads/2025/07/Josh-Turner.jpg
END:VEVENT
BEGIN:VEVENT
DTSTART;TZID=America/Indiana/Tell_City:20250823T183000
DTEND;TZID=America/Indiana/Tell_City:20250823T183000
DTSTAMP:20260421T230944
CREATED:20250702T220134Z
LAST-MODIFIED:20250702T220134Z
UID:10000026-1755973800-1755973800@www.myspencercounty.com
SUMMARY:Kenny Wayne Shepherd Band
DESCRIPTION:Saturday\, August 23\, 2025\, 6:30pm CT \nHailing from different generations\, but both blues legends\, Kenny Wayne Shepherd and Bobby Rush joined forces for the gritty “Young Fashioned Ways” album and now bring their mesmerizing partnership to Lincoln Amphitheatre. \nTickets available at the Lincoln Amphitheatre website. Ticket price includes concert admission\, parking\, and Lincoln State Park gate fee. \nVIP doors open at 5:00 pm CT; for all other ticket types\, doors at 5:30 pm CT.
URL:https://www.myspencercounty.com/calendar-of-event/kenny-wayne-shepherd-band/
LOCATION:Lincoln Amphitheatre\, 15032 East County Road 1500\, Lincoln City\, IN\, 47552\, United States
CATEGORIES:Lincoln Amphitheatre,Music
ATTACH;FMTTYPE=image/jpeg:https://www.myspencercounty.com/wp-content/uploads/2025/07/Kenny-Wayne-Shepherd-Band.jpg
END:VEVENT
BEGIN:VEVENT
DTSTART;TZID=America/Indiana/Tell_City:20250809T183000
DTEND;TZID=America/Indiana/Tell_City:20250809T183000
DTSTAMP:20260421T230944
CREATED:20250702T203711Z
LAST-MODIFIED:20250702T203711Z
UID:10000022-1754764200-1754764200@www.myspencercounty.com
SUMMARY:Steven Adler of Guns n Roses
DESCRIPTION:Steven Adler\, founding drummer of the groundbreaking hard rock band Guns N’ Roses\, hits the stage to bring new life to the band’s classics.Steven Adler\, founding drummer of the groundbreaking hard rock band Guns N’ Roses\, hits the stage to bring new life to the band’s classics. \nTickets available at the Lincoln Amphitheatre website. Ticket price includes concert admission\, parking\, and Lincoln State Park gate fee. \nVIP doors open at 5:00 pm CT; for all other ticket types\, doors at 5:30 pm CT.
URL:https://www.myspencercounty.com/calendar-of-event/steven-adler-of-guns-n-roses/
LOCATION:Lincoln Amphitheatre\, 15032 East County Road 1500\, Lincoln City\, IN\, 47552\, United States
CATEGORIES:Lincoln Amphitheatre,Music
ATTACH;FMTTYPE=image/jpeg:https://www.myspencercounty.com/wp-content/uploads/2025/07/Steven-Adler-of-Guns-n-Roses.jpg
END:VEVENT
BEGIN:VEVENT
DTSTART;TZID=America/Indiana/Tell_City:20250719T183000
DTEND;TZID=America/Indiana/Tell_City:20250719T183000
DTSTAMP:20260421T230944
CREATED:20250702T155442Z
LAST-MODIFIED:20250702T203742Z
UID:10000016-1752949800-1752949800@www.myspencercounty.com
SUMMARY:Gabby Barrett Performance
DESCRIPTION:One of Nashville’s brightest stars\, Gabby Barrett brings her country credentials to Lincoln Amphitheatre on July 19\, 2025. \nKnown for hits like “I Hope\,” “Pick Me Up\,” and “The Good Ones\,” the multi-platinum singer has earned accolades like Billboard Women in Music 2022’s Rising Star Award and toured with Jason Aldean\, Kane Brown\, and others. \nTickets available at the Lincoln Amphitheatre website. Ticket price includes concert admission\, parking\, and Lincoln State Park gate fee. \nVIP doors open at 5:00 pm CT; for all other ticket types\, doors at 5:30 pm CT.
URL:https://www.myspencercounty.com/calendar-of-event/gabby-barrett-performance/
LOCATION:Lincoln Amphitheatre\, 15032 East County Road 1500\, Lincoln City\, IN\, 47552\, United States
CATEGORIES:Lincoln Amphitheatre,Music
ATTACH;FMTTYPE=image/jpeg:https://www.myspencercounty.com/wp-content/uploads/2025/07/Gabby-Barrett-Performance.jpg
END:VEVENT
END:VCALENDAR