BEGIN:VCALENDAR
VERSION:2.0
PRODID:-//My Spencer County - ECPv6.15.20//NONSGML v1.0//EN
CALSCALE:GREGORIAN
METHOD:PUBLISH
X-ORIGINAL-URL:https://www.myspencercounty.com
X-WR-CALDESC:Events for My Spencer County
REFRESH-INTERVAL;VALUE=DURATION:PT1H
X-Robots-Tag:noindex
X-PUBLISHED-TTL:PT1H
BEGIN:VTIMEZONE
TZID:America/Indiana/Tell_City
BEGIN:DAYLIGHT
TZOFFSETFROM:-0600
TZOFFSETTO:-0500
TZNAME:CDT
DTSTART:20240310T080000
END:DAYLIGHT
BEGIN:STANDARD
TZOFFSETFROM:-0500
TZOFFSETTO:-0600
TZNAME:CST
DTSTART:20241103T070000
END:STANDARD
BEGIN:DAYLIGHT
TZOFFSETFROM:-0600
TZOFFSETTO:-0500
TZNAME:CDT
DTSTART:20250309T080000
END:DAYLIGHT
BEGIN:STANDARD
TZOFFSETFROM:-0500
TZOFFSETTO:-0600
TZNAME:CST
DTSTART:20251102T070000
END:STANDARD
BEGIN:DAYLIGHT
TZOFFSETFROM:-0600
TZOFFSETTO:-0500
TZNAME:CDT
DTSTART:20260308T080000
END:DAYLIGHT
BEGIN:STANDARD
TZOFFSETFROM:-0500
TZOFFSETTO:-0600
TZNAME:CST
DTSTART:20261101T070000
END:STANDARD
END:VTIMEZONE
BEGIN:VEVENT
DTSTART;TZID=America/Indiana/Tell_City:20251026T110000
DTEND;TZID=America/Indiana/Tell_City:20251026T180000
DTSTAMP:20260421T141251
CREATED:20250703T173459Z
LAST-MODIFIED:20250703T173459Z
UID:10000074-1761476400-1761501600@www.myspencercounty.com
SUMMARY:Happy Halloween Weekends
DESCRIPTION:Saturday\, September 20\, 2025 – Sunday\, October 26\, 2025 \nSaturdays\, 11:00 am – 8:00 pm CT; Sundays\, 11:00 am – 6:00 pm CT \nOctober 11\, 18\, and 25\, open 11:00 am – 10:00 pm CT \nHappy Halloween Weekends at Holiday World is fall fun for the whole family. \nEnjoy your favorite rides and attractions\, plus tons of fall-themed extras—Halloween shows\, candy\, costumes\, 12 acres of corn mazes\, and more! \nOnly Saturdays and Sundays. \nContact: (877) 463-2645\nFor more information visit our website \nHoliday World & Splashin’ Safari\n452 East Christmas Boulevard Santa Claus\, IN 47579
URL:https://www.myspencercounty.com/calendar-of-event/happy-halloween-weekends-3/2025-10-26/
LOCATION:Holiday World & Splashin’ Safari\, 452 East Christmas Boulevard\, Santa Claus\, IN\, 47579\, United States
CATEGORIES:Holiday World & Splashin' Safari,Santa Claus
ATTACH;FMTTYPE=image/jpeg:https://www.myspencercounty.com/wp-content/uploads/2025/07/Happy-Halloween-Weekends.jpg
END:VEVENT
BEGIN:VEVENT
DTSTART;TZID=America/Indiana/Tell_City:20251025T110000
DTEND;TZID=America/Indiana/Tell_City:20251025T220000
DTSTAMP:20260421T141251
CREATED:20250703T172345Z
LAST-MODIFIED:20250703T173005Z
UID:10000064-1761390000-1761429600@www.myspencercounty.com
SUMMARY:Happy Halloween Weekends
DESCRIPTION:Saturday\, September 20\, 2025 – Sunday\, October 26\, 2025 \nSaturdays\, 11:00 am – 8:00 pm CT; Sundays\, 11:00 am – 6:00 pm CT \nOctober 11\, 18\, and 25\, open 11:00 am – 10:00 pm CT \nHappy Halloween Weekends at Holiday World is fall fun for the whole family. \nEnjoy your favorite rides and attractions\, plus tons of fall-themed extras—Halloween shows\, candy\, costumes\, 12 acres of corn mazes\, and more! \nOnly Saturdays and Sundays. \nContact: (877) 463-2645\nFor more information visit our website \nHoliday World & Splashin’ Safari\n452 East Christmas Boulevard Santa Claus\, IN 47579
URL:https://www.myspencercounty.com/calendar-of-event/happy-halloween-weekends-2/2025-10-25/
LOCATION:Holiday World & Splashin’ Safari\, 452 East Christmas Boulevard\, Santa Claus\, IN\, 47579\, United States
CATEGORIES:Holiday World & Splashin' Safari,Santa Claus
ATTACH;FMTTYPE=image/jpeg:https://www.myspencercounty.com/wp-content/uploads/2025/07/Happy-Halloween-Weekends.jpg
END:VEVENT
BEGIN:VEVENT
DTSTART;TZID=America/Indiana/Tell_City:20251024T170000
DTEND;TZID=America/Indiana/Tell_City:20251024T220000
DTSTAMP:20260421T141251
CREATED:20250703T152346Z
LAST-MODIFIED:20250703T173102Z
UID:10000038-1761325200-1761343200@www.myspencercounty.com
SUMMARY:Friday Night Live!
DESCRIPTION:Friday\, August 22\, 2025 – Friday\, October 24\, 2025 \nFriday nights\, 5:00 – 10:00 pm CT \nFriday nights are more fun at Holiday World! Friday Night Live! offers later park hours\, live music\, drink specials\, night rides on roller coasters and major attractions\, and lots of fun! \nThe Friday Night Live! event is open to all Season Pass types and Any Day Tickets. Tickets for the event are available online for $25; tickets purchased onsite are $30. \nContact: (877) 463-2645\nFor more information visit our website \nHoliday World & Splashin’ Safari\n452 East Christmas Boulevard Santa Claus\, IN 47579
URL:https://www.myspencercounty.com/calendar-of-event/friday-night-live/2025-10-24/
LOCATION:Holiday World & Splashin’ Safari\, 452 East Christmas Boulevard\, Santa Claus\, IN\, 47579\, United States
CATEGORIES:Holiday World & Splashin' Safari,Music,Santa Claus
ATTACH;FMTTYPE=image/jpeg:https://www.myspencercounty.com/wp-content/uploads/2025/07/Friday-Night-Live.jpg
END:VEVENT
BEGIN:VEVENT
DTSTART;TZID=America/Indiana/Tell_City:20251019T110000
DTEND;TZID=America/Indiana/Tell_City:20251019T180000
DTSTAMP:20260421T141251
CREATED:20250703T173459Z
LAST-MODIFIED:20250703T173459Z
UID:10000073-1760871600-1760896800@www.myspencercounty.com
SUMMARY:Happy Halloween Weekends
DESCRIPTION:Saturday\, September 20\, 2025 – Sunday\, October 26\, 2025 \nSaturdays\, 11:00 am – 8:00 pm CT; Sundays\, 11:00 am – 6:00 pm CT \nOctober 11\, 18\, and 25\, open 11:00 am – 10:00 pm CT \nHappy Halloween Weekends at Holiday World is fall fun for the whole family. \nEnjoy your favorite rides and attractions\, plus tons of fall-themed extras—Halloween shows\, candy\, costumes\, 12 acres of corn mazes\, and more! \nOnly Saturdays and Sundays. \nContact: (877) 463-2645\nFor more information visit our website \nHoliday World & Splashin’ Safari\n452 East Christmas Boulevard Santa Claus\, IN 47579
URL:https://www.myspencercounty.com/calendar-of-event/happy-halloween-weekends-3/2025-10-19/
LOCATION:Holiday World & Splashin’ Safari\, 452 East Christmas Boulevard\, Santa Claus\, IN\, 47579\, United States
CATEGORIES:Holiday World & Splashin' Safari,Santa Claus
ATTACH;FMTTYPE=image/jpeg:https://www.myspencercounty.com/wp-content/uploads/2025/07/Happy-Halloween-Weekends.jpg
END:VEVENT
BEGIN:VEVENT
DTSTART;TZID=America/Indiana/Tell_City:20251018T110000
DTEND;TZID=America/Indiana/Tell_City:20251018T220000
DTSTAMP:20260421T141251
CREATED:20250703T172345Z
LAST-MODIFIED:20250703T173005Z
UID:10000063-1760785200-1760824800@www.myspencercounty.com
SUMMARY:Happy Halloween Weekends
DESCRIPTION:Saturday\, September 20\, 2025 – Sunday\, October 26\, 2025 \nSaturdays\, 11:00 am – 8:00 pm CT; Sundays\, 11:00 am – 6:00 pm CT \nOctober 11\, 18\, and 25\, open 11:00 am – 10:00 pm CT \nHappy Halloween Weekends at Holiday World is fall fun for the whole family. \nEnjoy your favorite rides and attractions\, plus tons of fall-themed extras—Halloween shows\, candy\, costumes\, 12 acres of corn mazes\, and more! \nOnly Saturdays and Sundays. \nContact: (877) 463-2645\nFor more information visit our website \nHoliday World & Splashin’ Safari\n452 East Christmas Boulevard Santa Claus\, IN 47579
URL:https://www.myspencercounty.com/calendar-of-event/happy-halloween-weekends-2/2025-10-18/
LOCATION:Holiday World & Splashin’ Safari\, 452 East Christmas Boulevard\, Santa Claus\, IN\, 47579\, United States
CATEGORIES:Holiday World & Splashin' Safari,Santa Claus
ATTACH;FMTTYPE=image/jpeg:https://www.myspencercounty.com/wp-content/uploads/2025/07/Happy-Halloween-Weekends.jpg
END:VEVENT
BEGIN:VEVENT
DTSTART;TZID=America/Indiana/Tell_City:20251017T170000
DTEND;TZID=America/Indiana/Tell_City:20251017T220000
DTSTAMP:20260421T141251
CREATED:20250703T152346Z
LAST-MODIFIED:20250703T173102Z
UID:10000037-1760720400-1760738400@www.myspencercounty.com
SUMMARY:Friday Night Live!
DESCRIPTION:Friday\, August 22\, 2025 – Friday\, October 24\, 2025 \nFriday nights\, 5:00 – 10:00 pm CT \nFriday nights are more fun at Holiday World! Friday Night Live! offers later park hours\, live music\, drink specials\, night rides on roller coasters and major attractions\, and lots of fun! \nThe Friday Night Live! event is open to all Season Pass types and Any Day Tickets. Tickets for the event are available online for $25; tickets purchased onsite are $30. \nContact: (877) 463-2645\nFor more information visit our website \nHoliday World & Splashin’ Safari\n452 East Christmas Boulevard Santa Claus\, IN 47579
URL:https://www.myspencercounty.com/calendar-of-event/friday-night-live/2025-10-17/
LOCATION:Holiday World & Splashin’ Safari\, 452 East Christmas Boulevard\, Santa Claus\, IN\, 47579\, United States
CATEGORIES:Holiday World & Splashin' Safari,Music,Santa Claus
ATTACH;FMTTYPE=image/jpeg:https://www.myspencercounty.com/wp-content/uploads/2025/07/Friday-Night-Live.jpg
END:VEVENT
BEGIN:VEVENT
DTSTART;TZID=America/Indiana/Tell_City:20251012T110000
DTEND;TZID=America/Indiana/Tell_City:20251012T180000
DTSTAMP:20260421T141251
CREATED:20250703T173459Z
LAST-MODIFIED:20250703T173459Z
UID:10000072-1760266800-1760292000@www.myspencercounty.com
SUMMARY:Happy Halloween Weekends
DESCRIPTION:Saturday\, September 20\, 2025 – Sunday\, October 26\, 2025 \nSaturdays\, 11:00 am – 8:00 pm CT; Sundays\, 11:00 am – 6:00 pm CT \nOctober 11\, 18\, and 25\, open 11:00 am – 10:00 pm CT \nHappy Halloween Weekends at Holiday World is fall fun for the whole family. \nEnjoy your favorite rides and attractions\, plus tons of fall-themed extras—Halloween shows\, candy\, costumes\, 12 acres of corn mazes\, and more! \nOnly Saturdays and Sundays. \nContact: (877) 463-2645\nFor more information visit our website \nHoliday World & Splashin’ Safari\n452 East Christmas Boulevard Santa Claus\, IN 47579
URL:https://www.myspencercounty.com/calendar-of-event/happy-halloween-weekends-3/2025-10-12/
LOCATION:Holiday World & Splashin’ Safari\, 452 East Christmas Boulevard\, Santa Claus\, IN\, 47579\, United States
CATEGORIES:Holiday World & Splashin' Safari,Santa Claus
ATTACH;FMTTYPE=image/jpeg:https://www.myspencercounty.com/wp-content/uploads/2025/07/Happy-Halloween-Weekends.jpg
END:VEVENT
BEGIN:VEVENT
DTSTART;TZID=America/Indiana/Tell_City:20251011T110000
DTEND;TZID=America/Indiana/Tell_City:20251011T220000
DTSTAMP:20260421T141251
CREATED:20250703T172345Z
LAST-MODIFIED:20250703T173005Z
UID:10000062-1760180400-1760220000@www.myspencercounty.com
SUMMARY:Happy Halloween Weekends
DESCRIPTION:Saturday\, September 20\, 2025 – Sunday\, October 26\, 2025 \nSaturdays\, 11:00 am – 8:00 pm CT; Sundays\, 11:00 am – 6:00 pm CT \nOctober 11\, 18\, and 25\, open 11:00 am – 10:00 pm CT \nHappy Halloween Weekends at Holiday World is fall fun for the whole family. \nEnjoy your favorite rides and attractions\, plus tons of fall-themed extras—Halloween shows\, candy\, costumes\, 12 acres of corn mazes\, and more! \nOnly Saturdays and Sundays. \nContact: (877) 463-2645\nFor more information visit our website \nHoliday World & Splashin’ Safari\n452 East Christmas Boulevard Santa Claus\, IN 47579
URL:https://www.myspencercounty.com/calendar-of-event/happy-halloween-weekends-2/2025-10-11/
LOCATION:Holiday World & Splashin’ Safari\, 452 East Christmas Boulevard\, Santa Claus\, IN\, 47579\, United States
CATEGORIES:Holiday World & Splashin' Safari,Santa Claus
ATTACH;FMTTYPE=image/jpeg:https://www.myspencercounty.com/wp-content/uploads/2025/07/Happy-Halloween-Weekends.jpg
END:VEVENT
BEGIN:VEVENT
DTSTART;TZID=America/Indiana/Tell_City:20251010T170000
DTEND;TZID=America/Indiana/Tell_City:20251010T220000
DTSTAMP:20260421T141251
CREATED:20250703T152346Z
LAST-MODIFIED:20250703T173102Z
UID:10000036-1760115600-1760133600@www.myspencercounty.com
SUMMARY:Friday Night Live!
DESCRIPTION:Friday\, August 22\, 2025 – Friday\, October 24\, 2025 \nFriday nights\, 5:00 – 10:00 pm CT \nFriday nights are more fun at Holiday World! Friday Night Live! offers later park hours\, live music\, drink specials\, night rides on roller coasters and major attractions\, and lots of fun! \nThe Friday Night Live! event is open to all Season Pass types and Any Day Tickets. Tickets for the event are available online for $25; tickets purchased onsite are $30. \nContact: (877) 463-2645\nFor more information visit our website \nHoliday World & Splashin’ Safari\n452 East Christmas Boulevard Santa Claus\, IN 47579
URL:https://www.myspencercounty.com/calendar-of-event/friday-night-live/2025-10-10/
LOCATION:Holiday World & Splashin’ Safari\, 452 East Christmas Boulevard\, Santa Claus\, IN\, 47579\, United States
CATEGORIES:Holiday World & Splashin' Safari,Music,Santa Claus
ATTACH;FMTTYPE=image/jpeg:https://www.myspencercounty.com/wp-content/uploads/2025/07/Friday-Night-Live.jpg
END:VEVENT
BEGIN:VEVENT
DTSTART;TZID=America/Indiana/Tell_City:20251005T110000
DTEND;TZID=America/Indiana/Tell_City:20251005T180000
DTSTAMP:20260421T141251
CREATED:20250703T173459Z
LAST-MODIFIED:20250703T173459Z
UID:10000071-1759662000-1759687200@www.myspencercounty.com
SUMMARY:Happy Halloween Weekends
DESCRIPTION:Saturday\, September 20\, 2025 – Sunday\, October 26\, 2025 \nSaturdays\, 11:00 am – 8:00 pm CT; Sundays\, 11:00 am – 6:00 pm CT \nOctober 11\, 18\, and 25\, open 11:00 am – 10:00 pm CT \nHappy Halloween Weekends at Holiday World is fall fun for the whole family. \nEnjoy your favorite rides and attractions\, plus tons of fall-themed extras—Halloween shows\, candy\, costumes\, 12 acres of corn mazes\, and more! \nOnly Saturdays and Sundays. \nContact: (877) 463-2645\nFor more information visit our website \nHoliday World & Splashin’ Safari\n452 East Christmas Boulevard Santa Claus\, IN 47579
URL:https://www.myspencercounty.com/calendar-of-event/happy-halloween-weekends-3/2025-10-05/
LOCATION:Holiday World & Splashin’ Safari\, 452 East Christmas Boulevard\, Santa Claus\, IN\, 47579\, United States
CATEGORIES:Holiday World & Splashin' Safari,Santa Claus
ATTACH;FMTTYPE=image/jpeg:https://www.myspencercounty.com/wp-content/uploads/2025/07/Happy-Halloween-Weekends.jpg
END:VEVENT
BEGIN:VEVENT
DTSTART;TZID=America/Indiana/Tell_City:20251004T110000
DTEND;TZID=America/Indiana/Tell_City:20251004T200000
DTSTAMP:20260421T141251
CREATED:20250703T172130Z
LAST-MODIFIED:20250703T172634Z
UID:10000065-1759575600-1759608000@www.myspencercounty.com
SUMMARY:Happy Halloween Weekends
DESCRIPTION:Saturday\, September 20\, 2025 – Sunday\, October 26\, 2025 \nSaturdays\, 11:00 am – 8:00 pm CT; Sundays\, 11:00 am – 6:00 pm CT \nOctober 11\, 18\, and 25\, open 11:00 am – 10:00 pm CT \nHappy Halloween Weekends at Holiday World is fall fun for the whole family. \nEnjoy your favorite rides and attractions\, plus tons of fall-themed extras—Halloween shows\, candy\, costumes\, 12 acres of corn mazes\, and more! \nOnly Saturdays and Sundays. \nContact: (877) 463-2645\nFor more information visit our website \nHoliday World & Splashin’ Safari\n452 East Christmas Boulevard Santa Claus\, IN 47579
URL:https://www.myspencercounty.com/calendar-of-event/happy-halloween-weekends/2025-10-04/
LOCATION:Holiday World & Splashin’ Safari\, 452 East Christmas Boulevard\, Santa Claus\, IN\, 47579\, United States
CATEGORIES:Holiday World & Splashin' Safari,Santa Claus
ATTACH;FMTTYPE=image/jpeg:https://www.myspencercounty.com/wp-content/uploads/2025/07/Friday-Night-Live.jpg
END:VEVENT
BEGIN:VEVENT
DTSTART;TZID=America/Indiana/Tell_City:20251003T170000
DTEND;TZID=America/Indiana/Tell_City:20251003T220000
DTSTAMP:20260421T141251
CREATED:20250703T152346Z
LAST-MODIFIED:20250703T173102Z
UID:10000035-1759510800-1759528800@www.myspencercounty.com
SUMMARY:Friday Night Live!
DESCRIPTION:Friday\, August 22\, 2025 – Friday\, October 24\, 2025 \nFriday nights\, 5:00 – 10:00 pm CT \nFriday nights are more fun at Holiday World! Friday Night Live! offers later park hours\, live music\, drink specials\, night rides on roller coasters and major attractions\, and lots of fun! \nThe Friday Night Live! event is open to all Season Pass types and Any Day Tickets. Tickets for the event are available online for $25; tickets purchased onsite are $30. \nContact: (877) 463-2645\nFor more information visit our website \nHoliday World & Splashin’ Safari\n452 East Christmas Boulevard Santa Claus\, IN 47579
URL:https://www.myspencercounty.com/calendar-of-event/friday-night-live/2025-10-03/
LOCATION:Holiday World & Splashin’ Safari\, 452 East Christmas Boulevard\, Santa Claus\, IN\, 47579\, United States
CATEGORIES:Holiday World & Splashin' Safari,Music,Santa Claus
ATTACH;FMTTYPE=image/jpeg:https://www.myspencercounty.com/wp-content/uploads/2025/07/Friday-Night-Live.jpg
END:VEVENT
BEGIN:VEVENT
DTSTART;TZID=America/Indiana/Tell_City:20250928T110000
DTEND;TZID=America/Indiana/Tell_City:20250928T180000
DTSTAMP:20260421T141251
CREATED:20250703T173459Z
LAST-MODIFIED:20250703T173459Z
UID:10000070-1759057200-1759082400@www.myspencercounty.com
SUMMARY:Happy Halloween Weekends
DESCRIPTION:Saturday\, September 20\, 2025 – Sunday\, October 26\, 2025 \nSaturdays\, 11:00 am – 8:00 pm CT; Sundays\, 11:00 am – 6:00 pm CT \nOctober 11\, 18\, and 25\, open 11:00 am – 10:00 pm CT \nHappy Halloween Weekends at Holiday World is fall fun for the whole family. \nEnjoy your favorite rides and attractions\, plus tons of fall-themed extras—Halloween shows\, candy\, costumes\, 12 acres of corn mazes\, and more! \nOnly Saturdays and Sundays. \nContact: (877) 463-2645\nFor more information visit our website \nHoliday World & Splashin’ Safari\n452 East Christmas Boulevard Santa Claus\, IN 47579
URL:https://www.myspencercounty.com/calendar-of-event/happy-halloween-weekends-3/2025-09-28/
LOCATION:Holiday World & Splashin’ Safari\, 452 East Christmas Boulevard\, Santa Claus\, IN\, 47579\, United States
CATEGORIES:Holiday World & Splashin' Safari,Santa Claus
ATTACH;FMTTYPE=image/jpeg:https://www.myspencercounty.com/wp-content/uploads/2025/07/Happy-Halloween-Weekends.jpg
END:VEVENT
BEGIN:VEVENT
DTSTART;TZID=America/Indiana/Tell_City:20250927T110000
DTEND;TZID=America/Indiana/Tell_City:20250927T200000
DTSTAMP:20260421T141251
CREATED:20250703T172130Z
LAST-MODIFIED:20250703T172634Z
UID:10000059-1758970800-1759003200@www.myspencercounty.com
SUMMARY:Happy Halloween Weekends
DESCRIPTION:Saturday\, September 20\, 2025 – Sunday\, October 26\, 2025 \nSaturdays\, 11:00 am – 8:00 pm CT; Sundays\, 11:00 am – 6:00 pm CT \nOctober 11\, 18\, and 25\, open 11:00 am – 10:00 pm CT \nHappy Halloween Weekends at Holiday World is fall fun for the whole family. \nEnjoy your favorite rides and attractions\, plus tons of fall-themed extras—Halloween shows\, candy\, costumes\, 12 acres of corn mazes\, and more! \nOnly Saturdays and Sundays. \nContact: (877) 463-2645\nFor more information visit our website \nHoliday World & Splashin’ Safari\n452 East Christmas Boulevard Santa Claus\, IN 47579
URL:https://www.myspencercounty.com/calendar-of-event/happy-halloween-weekends/2025-09-27/
LOCATION:Holiday World & Splashin’ Safari\, 452 East Christmas Boulevard\, Santa Claus\, IN\, 47579\, United States
CATEGORIES:Holiday World & Splashin' Safari,Santa Claus
ATTACH;FMTTYPE=image/jpeg:https://www.myspencercounty.com/wp-content/uploads/2025/07/Friday-Night-Live.jpg
END:VEVENT
BEGIN:VEVENT
DTSTART;TZID=America/Indiana/Tell_City:20250926T170000
DTEND;TZID=America/Indiana/Tell_City:20250926T220000
DTSTAMP:20260421T141251
CREATED:20250703T152346Z
LAST-MODIFIED:20250703T173102Z
UID:10000034-1758906000-1758924000@www.myspencercounty.com
SUMMARY:Friday Night Live!
DESCRIPTION:Friday\, August 22\, 2025 – Friday\, October 24\, 2025 \nFriday nights\, 5:00 – 10:00 pm CT \nFriday nights are more fun at Holiday World! Friday Night Live! offers later park hours\, live music\, drink specials\, night rides on roller coasters and major attractions\, and lots of fun! \nThe Friday Night Live! event is open to all Season Pass types and Any Day Tickets. Tickets for the event are available online for $25; tickets purchased onsite are $30. \nContact: (877) 463-2645\nFor more information visit our website \nHoliday World & Splashin’ Safari\n452 East Christmas Boulevard Santa Claus\, IN 47579
URL:https://www.myspencercounty.com/calendar-of-event/friday-night-live/2025-09-26/
LOCATION:Holiday World & Splashin’ Safari\, 452 East Christmas Boulevard\, Santa Claus\, IN\, 47579\, United States
CATEGORIES:Holiday World & Splashin' Safari,Music,Santa Claus
ATTACH;FMTTYPE=image/jpeg:https://www.myspencercounty.com/wp-content/uploads/2025/07/Friday-Night-Live.jpg
END:VEVENT
BEGIN:VEVENT
DTSTART;TZID=America/Indiana/Tell_City:20250921T110000
DTEND;TZID=America/Indiana/Tell_City:20250921T180000
DTSTAMP:20260421T141251
CREATED:20250703T173459Z
LAST-MODIFIED:20250703T173459Z
UID:10000069-1758452400-1758477600@www.myspencercounty.com
SUMMARY:Happy Halloween Weekends
DESCRIPTION:Saturday\, September 20\, 2025 – Sunday\, October 26\, 2025 \nSaturdays\, 11:00 am – 8:00 pm CT; Sundays\, 11:00 am – 6:00 pm CT \nOctober 11\, 18\, and 25\, open 11:00 am – 10:00 pm CT \nHappy Halloween Weekends at Holiday World is fall fun for the whole family. \nEnjoy your favorite rides and attractions\, plus tons of fall-themed extras—Halloween shows\, candy\, costumes\, 12 acres of corn mazes\, and more! \nOnly Saturdays and Sundays. \nContact: (877) 463-2645\nFor more information visit our website \nHoliday World & Splashin’ Safari\n452 East Christmas Boulevard Santa Claus\, IN 47579
URL:https://www.myspencercounty.com/calendar-of-event/happy-halloween-weekends-3/2025-09-21/
LOCATION:Holiday World & Splashin’ Safari\, 452 East Christmas Boulevard\, Santa Claus\, IN\, 47579\, United States
CATEGORIES:Holiday World & Splashin' Safari,Santa Claus
ATTACH;FMTTYPE=image/jpeg:https://www.myspencercounty.com/wp-content/uploads/2025/07/Happy-Halloween-Weekends.jpg
END:VEVENT
BEGIN:VEVENT
DTSTART;TZID=America/Indiana/Tell_City:20250920T110000
DTEND;TZID=America/Indiana/Tell_City:20250920T200000
DTSTAMP:20260421T141251
CREATED:20250703T172130Z
LAST-MODIFIED:20250703T172634Z
UID:10000058-1758366000-1758398400@www.myspencercounty.com
SUMMARY:Happy Halloween Weekends
DESCRIPTION:Saturday\, September 20\, 2025 – Sunday\, October 26\, 2025 \nSaturdays\, 11:00 am – 8:00 pm CT; Sundays\, 11:00 am – 6:00 pm CT \nOctober 11\, 18\, and 25\, open 11:00 am – 10:00 pm CT \nHappy Halloween Weekends at Holiday World is fall fun for the whole family. \nEnjoy your favorite rides and attractions\, plus tons of fall-themed extras—Halloween shows\, candy\, costumes\, 12 acres of corn mazes\, and more! \nOnly Saturdays and Sundays. \nContact: (877) 463-2645\nFor more information visit our website \nHoliday World & Splashin’ Safari\n452 East Christmas Boulevard Santa Claus\, IN 47579
URL:https://www.myspencercounty.com/calendar-of-event/happy-halloween-weekends/2025-09-20/
LOCATION:Holiday World & Splashin’ Safari\, 452 East Christmas Boulevard\, Santa Claus\, IN\, 47579\, United States
CATEGORIES:Holiday World & Splashin' Safari,Santa Claus
ATTACH;FMTTYPE=image/jpeg:https://www.myspencercounty.com/wp-content/uploads/2025/07/Friday-Night-Live.jpg
END:VEVENT
BEGIN:VEVENT
DTSTART;TZID=America/Indiana/Tell_City:20250919T170000
DTEND;TZID=America/Indiana/Tell_City:20250919T220000
DTSTAMP:20260421T141251
CREATED:20250703T152346Z
LAST-MODIFIED:20250703T173102Z
UID:10000033-1758301200-1758319200@www.myspencercounty.com
SUMMARY:Friday Night Live!
DESCRIPTION:Friday\, August 22\, 2025 – Friday\, October 24\, 2025 \nFriday nights\, 5:00 – 10:00 pm CT \nFriday nights are more fun at Holiday World! Friday Night Live! offers later park hours\, live music\, drink specials\, night rides on roller coasters and major attractions\, and lots of fun! \nThe Friday Night Live! event is open to all Season Pass types and Any Day Tickets. Tickets for the event are available online for $25; tickets purchased onsite are $30. \nContact: (877) 463-2645\nFor more information visit our website \nHoliday World & Splashin’ Safari\n452 East Christmas Boulevard Santa Claus\, IN 47579
URL:https://www.myspencercounty.com/calendar-of-event/friday-night-live/2025-09-19/
LOCATION:Holiday World & Splashin’ Safari\, 452 East Christmas Boulevard\, Santa Claus\, IN\, 47579\, United States
CATEGORIES:Holiday World & Splashin' Safari,Music,Santa Claus
ATTACH;FMTTYPE=image/jpeg:https://www.myspencercounty.com/wp-content/uploads/2025/07/Friday-Night-Live.jpg
END:VEVENT
BEGIN:VEVENT
DTSTART;TZID=America/Indiana/Tell_City:20250912T170000
DTEND;TZID=America/Indiana/Tell_City:20250912T220000
DTSTAMP:20260421T141251
CREATED:20250703T152346Z
LAST-MODIFIED:20250703T173102Z
UID:10000032-1757696400-1757714400@www.myspencercounty.com
SUMMARY:Friday Night Live!
DESCRIPTION:Friday\, August 22\, 2025 – Friday\, October 24\, 2025 \nFriday nights\, 5:00 – 10:00 pm CT \nFriday nights are more fun at Holiday World! Friday Night Live! offers later park hours\, live music\, drink specials\, night rides on roller coasters and major attractions\, and lots of fun! \nThe Friday Night Live! event is open to all Season Pass types and Any Day Tickets. Tickets for the event are available online for $25; tickets purchased onsite are $30. \nContact: (877) 463-2645\nFor more information visit our website \nHoliday World & Splashin’ Safari\n452 East Christmas Boulevard Santa Claus\, IN 47579
URL:https://www.myspencercounty.com/calendar-of-event/friday-night-live/2025-09-12/
LOCATION:Holiday World & Splashin’ Safari\, 452 East Christmas Boulevard\, Santa Claus\, IN\, 47579\, United States
CATEGORIES:Holiday World & Splashin' Safari,Music,Santa Claus
ATTACH;FMTTYPE=image/jpeg:https://www.myspencercounty.com/wp-content/uploads/2025/07/Friday-Night-Live.jpg
END:VEVENT
BEGIN:VEVENT
DTSTART;TZID=America/Indiana/Tell_City:20250905T170000
DTEND;TZID=America/Indiana/Tell_City:20250905T220000
DTSTAMP:20260421T141251
CREATED:20250703T152346Z
LAST-MODIFIED:20250703T173102Z
UID:10000031-1757091600-1757109600@www.myspencercounty.com
SUMMARY:Friday Night Live!
DESCRIPTION:Friday\, August 22\, 2025 – Friday\, October 24\, 2025 \nFriday nights\, 5:00 – 10:00 pm CT \nFriday nights are more fun at Holiday World! Friday Night Live! offers later park hours\, live music\, drink specials\, night rides on roller coasters and major attractions\, and lots of fun! \nThe Friday Night Live! event is open to all Season Pass types and Any Day Tickets. Tickets for the event are available online for $25; tickets purchased onsite are $30. \nContact: (877) 463-2645\nFor more information visit our website \nHoliday World & Splashin’ Safari\n452 East Christmas Boulevard Santa Claus\, IN 47579
URL:https://www.myspencercounty.com/calendar-of-event/friday-night-live/2025-09-05/
LOCATION:Holiday World & Splashin’ Safari\, 452 East Christmas Boulevard\, Santa Claus\, IN\, 47579\, United States
CATEGORIES:Holiday World & Splashin' Safari,Music,Santa Claus
ATTACH;FMTTYPE=image/jpeg:https://www.myspencercounty.com/wp-content/uploads/2025/07/Friday-Night-Live.jpg
END:VEVENT
BEGIN:VEVENT
DTSTART;TZID=America/Indiana/Tell_City:20250829T170000
DTEND;TZID=America/Indiana/Tell_City:20250829T220000
DTSTAMP:20260421T141251
CREATED:20250703T152346Z
LAST-MODIFIED:20250703T173102Z
UID:10000030-1756486800-1756504800@www.myspencercounty.com
SUMMARY:Friday Night Live!
DESCRIPTION:Friday\, August 22\, 2025 – Friday\, October 24\, 2025 \nFriday nights\, 5:00 – 10:00 pm CT \nFriday nights are more fun at Holiday World! Friday Night Live! offers later park hours\, live music\, drink specials\, night rides on roller coasters and major attractions\, and lots of fun! \nThe Friday Night Live! event is open to all Season Pass types and Any Day Tickets. Tickets for the event are available online for $25; tickets purchased onsite are $30. \nContact: (877) 463-2645\nFor more information visit our website \nHoliday World & Splashin’ Safari\n452 East Christmas Boulevard Santa Claus\, IN 47579
URL:https://www.myspencercounty.com/calendar-of-event/friday-night-live/2025-08-29/
LOCATION:Holiday World & Splashin’ Safari\, 452 East Christmas Boulevard\, Santa Claus\, IN\, 47579\, United States
CATEGORIES:Holiday World & Splashin' Safari,Music,Santa Claus
ATTACH;FMTTYPE=image/jpeg:https://www.myspencercounty.com/wp-content/uploads/2025/07/Friday-Night-Live.jpg
END:VEVENT
BEGIN:VEVENT
DTSTART;TZID=America/Indiana/Tell_City:20250822T170000
DTEND;TZID=America/Indiana/Tell_City:20250822T220000
DTSTAMP:20260421T141251
CREATED:20250703T152346Z
LAST-MODIFIED:20250703T173102Z
UID:10000029-1755882000-1755900000@www.myspencercounty.com
SUMMARY:Friday Night Live!
DESCRIPTION:Friday\, August 22\, 2025 – Friday\, October 24\, 2025 \nFriday nights\, 5:00 – 10:00 pm CT \nFriday nights are more fun at Holiday World! Friday Night Live! offers later park hours\, live music\, drink specials\, night rides on roller coasters and major attractions\, and lots of fun! \nThe Friday Night Live! event is open to all Season Pass types and Any Day Tickets. Tickets for the event are available online for $25; tickets purchased onsite are $30. \nContact: (877) 463-2645\nFor more information visit our website \nHoliday World & Splashin’ Safari\n452 East Christmas Boulevard Santa Claus\, IN 47579
URL:https://www.myspencercounty.com/calendar-of-event/friday-night-live/2025-08-22/
LOCATION:Holiday World & Splashin’ Safari\, 452 East Christmas Boulevard\, Santa Claus\, IN\, 47579\, United States
CATEGORIES:Holiday World & Splashin' Safari,Music,Santa Claus
ATTACH;FMTTYPE=image/jpeg:https://www.myspencercounty.com/wp-content/uploads/2025/07/Friday-Night-Live.jpg
END:VEVENT
END:VCALENDAR