BEGIN:VCALENDAR
VERSION:2.0
PRODID:-//My Spencer County - ECPv6.15.20//NONSGML v1.0//EN
CALSCALE:GREGORIAN
METHOD:PUBLISH
X-WR-CALNAME:My Spencer County
X-ORIGINAL-URL:https://www.myspencercounty.com
X-WR-CALDESC:Events for My Spencer County
REFRESH-INTERVAL;VALUE=DURATION:PT1H
X-Robots-Tag:noindex
X-PUBLISHED-TTL:PT1H
BEGIN:VTIMEZONE
TZID:America/Indiana/Tell_City
BEGIN:DAYLIGHT
TZOFFSETFROM:-0600
TZOFFSETTO:-0500
TZNAME:CDT
DTSTART:20240310T080000
END:DAYLIGHT
BEGIN:STANDARD
TZOFFSETFROM:-0500
TZOFFSETTO:-0600
TZNAME:CST
DTSTART:20241103T070000
END:STANDARD
BEGIN:DAYLIGHT
TZOFFSETFROM:-0600
TZOFFSETTO:-0500
TZNAME:CDT
DTSTART:20250309T080000
END:DAYLIGHT
BEGIN:STANDARD
TZOFFSETFROM:-0500
TZOFFSETTO:-0600
TZNAME:CST
DTSTART:20251102T070000
END:STANDARD
BEGIN:DAYLIGHT
TZOFFSETFROM:-0600
TZOFFSETTO:-0500
TZNAME:CDT
DTSTART:20260308T080000
END:DAYLIGHT
BEGIN:STANDARD
TZOFFSETFROM:-0500
TZOFFSETTO:-0600
TZNAME:CST
DTSTART:20261101T070000
END:STANDARD
END:VTIMEZONE
BEGIN:VEVENT
DTSTART;TZID=America/Indiana/Tell_City:20251109T130000
DTEND;TZID=America/Indiana/Tell_City:20251109T150000
DTSTAMP:20260422T000842
CREATED:20251105T220316Z
LAST-MODIFIED:20251105T220450Z
UID:10000130-1762693200-1762700400@www.myspencercounty.com
SUMMARY:Christmas Ornament Painting
DESCRIPTION:Trim your tree this year with ornaments painted by YOU at Good Life Designs! \n$5 each. Register and make payment online. \nFor more information visit our website\, or call (812) 548-6398.
URL:https://www.myspencercounty.com/calendar-of-event/christmas-ornament-painting/
LOCATION:Good Life Designs\, 14874 North County Road 475 East\, Lamar\, IN\, 47550\, United States
CATEGORIES:Arts and Crafts Event,Kid Friendly,Lamar
ATTACH;FMTTYPE=image/jpeg:https://www.myspencercounty.com/wp-content/uploads/2025/11/christmas-ornament-painting.jpg
END:VEVENT
BEGIN:VEVENT
DTSTART;TZID=America/Indiana/Tell_City:20250920T100000
DTEND;TZID=America/Indiana/Tell_City:20250920T120000
DTSTAMP:20260422T000842
CREATED:20250703T165107Z
LAST-MODIFIED:20250703T165107Z
UID:10000047-1758362400-1758369600@www.myspencercounty.com
SUMMARY:Pumpkin Pottery Painting
DESCRIPTION:Saturday\, September 20\, 2025 @ 10:00 AM – 12:00 PM \nPick—and paint—your own pottery pumpkin at Good Life Designs! Customize your choice of pumpkins (sizes and prices vary) to create a one-of-a-kind fall keepsake. \n$20 registration per person. Registration required at our website link below. \nContact: (812) 548-6398\nFor more information visit our website
URL:https://www.myspencercounty.com/calendar-of-event/pumpkin-pottery-painting/
LOCATION:Good Life Designs\, 14874 North County Road 475 East\, Lamar\, IN\, 47550\, United States
CATEGORIES:Community Event,Lamar,Santa Claus
ATTACH;FMTTYPE=image/jpeg:https://www.myspencercounty.com/wp-content/uploads/2025/07/Pumpkin-Pottery-Painting.jpg
END:VEVENT
END:VCALENDAR