BEGIN:VCALENDAR
VERSION:2.0
PRODID:-//My Spencer County - ECPv6.15.20//NONSGML v1.0//EN
CALSCALE:GREGORIAN
METHOD:PUBLISH
X-WR-CALNAME:My Spencer County
X-ORIGINAL-URL:https://www.myspencercounty.com
X-WR-CALDESC:Events for My Spencer County
REFRESH-INTERVAL;VALUE=DURATION:PT1H
X-Robots-Tag:noindex
X-PUBLISHED-TTL:PT1H
BEGIN:VTIMEZONE
TZID:America/Indiana/Tell_City
BEGIN:DAYLIGHT
TZOFFSETFROM:-0600
TZOFFSETTO:-0500
TZNAME:CDT
DTSTART:20240310T080000
END:DAYLIGHT
BEGIN:STANDARD
TZOFFSETFROM:-0500
TZOFFSETTO:-0600
TZNAME:CST
DTSTART:20241103T070000
END:STANDARD
BEGIN:DAYLIGHT
TZOFFSETFROM:-0600
TZOFFSETTO:-0500
TZNAME:CDT
DTSTART:20250309T080000
END:DAYLIGHT
BEGIN:STANDARD
TZOFFSETFROM:-0500
TZOFFSETTO:-0600
TZNAME:CST
DTSTART:20251102T070000
END:STANDARD
BEGIN:DAYLIGHT
TZOFFSETFROM:-0600
TZOFFSETTO:-0500
TZNAME:CDT
DTSTART:20260308T080000
END:DAYLIGHT
BEGIN:STANDARD
TZOFFSETFROM:-0500
TZOFFSETTO:-0600
TZNAME:CST
DTSTART:20261101T070000
END:STANDARD
END:VTIMEZONE
BEGIN:VEVENT
DTSTART;VALUE=DATE:20251206
DTEND;VALUE=DATE:20251207
DTSTAMP:20260421T200025
CREATED:20251105T173333Z
LAST-MODIFIED:20251118T205223Z
UID:10000127-1764979200-1765065599@www.myspencercounty.com
SUMMARY:Christmas on the Rock
DESCRIPTION:Christmas cheer fills the air as festivities take over the city of Rockport on Saturday\, December 6\, 2025! \nEnjoy a full schedule of merry events and activities\, including a craft show\, pancake breakfast\, parade\, star lighting\, and more. \nThere will be events all day throughout the town\, with the parade starting at 2:00 on the streets near Rockport City Hall. \nReindeer Run info and signup form (click to view)
URL:https://www.myspencercounty.com/calendar-of-event/christmas-on-the-rock/
LOCATION:City of Rockport\, Rockport\, United States
CATEGORIES:Christmas,Kid Friendly,Parade,Rockport
ATTACH;FMTTYPE=image/jpeg:https://www.myspencercounty.com/wp-content/uploads/2025/11/rockport-christmas-parade.jpg
END:VEVENT
END:VCALENDAR