BEGIN:VCALENDAR
VERSION:2.0
PRODID:-//My Spencer County - ECPv6.15.20//NONSGML v1.0//EN
CALSCALE:GREGORIAN
METHOD:PUBLISH
X-WR-CALNAME:My Spencer County
X-ORIGINAL-URL:https://www.myspencercounty.com
X-WR-CALDESC:Events for My Spencer County
REFRESH-INTERVAL;VALUE=DURATION:PT1H
X-Robots-Tag:noindex
X-PUBLISHED-TTL:PT1H
BEGIN:VTIMEZONE
TZID:America/Indiana/Tell_City
BEGIN:DAYLIGHT
TZOFFSETFROM:-0600
TZOFFSETTO:-0500
TZNAME:CDT
DTSTART:20250309T080000
END:DAYLIGHT
BEGIN:STANDARD
TZOFFSETFROM:-0500
TZOFFSETTO:-0600
TZNAME:CST
DTSTART:20251102T070000
END:STANDARD
BEGIN:DAYLIGHT
TZOFFSETFROM:-0600
TZOFFSETTO:-0500
TZNAME:CDT
DTSTART:20260308T080000
END:DAYLIGHT
BEGIN:STANDARD
TZOFFSETFROM:-0500
TZOFFSETTO:-0600
TZNAME:CST
DTSTART:20261101T070000
END:STANDARD
BEGIN:DAYLIGHT
TZOFFSETFROM:-0600
TZOFFSETTO:-0500
TZNAME:CDT
DTSTART:20270314T080000
END:DAYLIGHT
BEGIN:STANDARD
TZOFFSETFROM:-0500
TZOFFSETTO:-0600
TZNAME:CST
DTSTART:20271107T070000
END:STANDARD
END:VTIMEZONE
BEGIN:VEVENT
DTSTART;TZID=America/Indiana/Tell_City:20260425T100000
DTEND;TZID=America/Indiana/Tell_City:20260425T140000
DTSTAMP:20260421T220213
CREATED:20260421T190827Z
LAST-MODIFIED:20260421T191251Z
UID:10000187-1777111200-1777125600@www.myspencercounty.com
SUMMARY:Junior Ranger Day
DESCRIPTION:Saturday\, April 25\, 2026 from 10:00am – 2:00pm \nCalling all kids—you could become a Junior Ranger at Lincoln Boyhood National Memorial on Saturday\, April 25\, 2026! \nEmbark on an epic Lincoln Adventure Family Challenge that will test your pioneer skills\, like splitting firewood\, crafting candles\, and more. \nFor more information call (812) 937-4541\, or visit our website
URL:https://www.myspencercounty.com/calendar-of-event/junior-ranger-day/
LOCATION:Lincoln Boyhood National Memorial\, 3027 East South Street\, Lincoln City\, 47552\, United States
CATEGORIES:Community Event,Kid Friendly,Lincoln Boyhood National Memorial,Outdoors
ATTACH;FMTTYPE=image/webp:https://www.myspencercounty.com/wp-content/uploads/2026/04/jr-ranger-day.webp
END:VEVENT
BEGIN:VEVENT
DTSTART;TZID=America/Indiana/Tell_City:20260502T090000
DTEND;TZID=America/Indiana/Tell_City:20260502T090000
DTSTAMP:20260421T220213
CREATED:20260421T193747Z
LAST-MODIFIED:20260421T193821Z
UID:10000192-1777712400-1777712400@www.myspencercounty.com
SUMMARY:Mr. Lincoln’s Neighborhood 5K
DESCRIPTION:Saturday\, May 2\, 2026 @ 9:00am \nThe annual Mr. Lincoln’s Neighborhood 5K Run/Walk comes to Lincoln State Park. The moderate course will begin and end at the Lake Lincoln Beach parking lot and consist of paved park roadways and some hiking trails. Prizes will be awarded to the first-place male and female finishers for adults and kids under 16. Door prizes will also be awarded during the event. \nRegistration is $25/person through May 1\, 2026; $30/person on race day. The park entrance fee of $7 per Indiana vehicle or $9 per out-of-state vehicle will be in effect and is not included in the registration fee. Event T-shirts are available while supplies last\, with priority given to prepaid registrants. \nFor details and to register call Friends of Lincoln State Park (812) 937-4710\, or visit our website
URL:https://www.myspencercounty.com/calendar-of-event/mr-lincolns-neighborhood-5k/
LOCATION:Lincoln State Park\, State Road 162\, Lincoln City\, IN\, 47552\, United States
CATEGORIES:Lincoln State Park,Recreation & Sports
ATTACH;FMTTYPE=image/webp:https://www.myspencercounty.com/wp-content/uploads/2026/04/mr-lincolns-neighborhood-5K.webp
END:VEVENT
END:VCALENDAR